BEGIN:VCALENDAR
VERSION:2.0
PRODID:-//Associazione Go On Odv - Cremona - ECPv6.15.12.2//NONSGML v1.0//EN
CALSCALE:GREGORIAN
METHOD:PUBLISH
X-ORIGINAL-URL:https://www.associazionegoon.org
X-WR-CALDESC:Eventi per Associazione Go On Odv - Cremona
REFRESH-INTERVAL;VALUE=DURATION:PT1H
X-Robots-Tag:noindex
X-PUBLISHED-TTL:PT1H
BEGIN:VTIMEZONE
TZID:Europe/Rome
BEGIN:DAYLIGHT
TZOFFSETFROM:+0100
TZOFFSETTO:+0200
TZNAME:CEST
DTSTART:20240331T010000
END:DAYLIGHT
BEGIN:STANDARD
TZOFFSETFROM:+0200
TZOFFSETTO:+0100
TZNAME:CET
DTSTART:20241027T010000
END:STANDARD
BEGIN:DAYLIGHT
TZOFFSETFROM:+0100
TZOFFSETTO:+0200
TZNAME:CEST
DTSTART:20250330T010000
END:DAYLIGHT
BEGIN:STANDARD
TZOFFSETFROM:+0200
TZOFFSETTO:+0100
TZNAME:CET
DTSTART:20251026T010000
END:STANDARD
BEGIN:DAYLIGHT
TZOFFSETFROM:+0100
TZOFFSETTO:+0200
TZNAME:CEST
DTSTART:20260329T010000
END:DAYLIGHT
BEGIN:STANDARD
TZOFFSETFROM:+0200
TZOFFSETTO:+0100
TZNAME:CET
DTSTART:20261025T010000
END:STANDARD
END:VTIMEZONE
BEGIN:VEVENT
DTSTART;TZID=Europe/Rome:20250705T160000
DTEND;TZID=Europe/Rome:20250705T183000
DTSTAMP:20260422T163946
CREATED:20251010T072355Z
LAST-MODIFIED:20251010T072355Z
UID:2869-1751731200-1751740200@www.associazionegoon.org
SUMMARY:Tutto uncinetto
DESCRIPTION:Abbiamo maestre bravissime….per chi vuole cimentarsi nella preparazione dei gadget per i nostri futuri banchetti\, vi aspettiamo sabato 5 luglio alle ore 16:00 presso i locali dell’Ottagono in via della Conca / (zona Porto Canale CR). \nPortate l’uncinetto del 2 o 2.5 se lo avete. \nSeguirà cena in compagnia\, quindi attendiamo le vostre adesioni.
URL:https://www.associazionegoon.org/event/tutto-uncinetto/
END:VEVENT
END:VCALENDAR