BEGIN:VCALENDAR
VERSION:2.0
PRODID:-//Associazione Go On Odv - Cremona - ECPv6.15.12.2//NONSGML v1.0//EN
CALSCALE:GREGORIAN
METHOD:PUBLISH
X-WR-CALNAME:Associazione Go On Odv - Cremona
X-ORIGINAL-URL:https://www.associazionegoon.org
X-WR-CALDESC:Eventi per Associazione Go On Odv - Cremona
REFRESH-INTERVAL;VALUE=DURATION:PT1H
X-Robots-Tag:noindex
X-PUBLISHED-TTL:PT1H
BEGIN:VTIMEZONE
TZID:Europe/Rome
BEGIN:DAYLIGHT
TZOFFSETFROM:+0100
TZOFFSETTO:+0200
TZNAME:CEST
DTSTART:20240331T010000
END:DAYLIGHT
BEGIN:STANDARD
TZOFFSETFROM:+0200
TZOFFSETTO:+0100
TZNAME:CET
DTSTART:20241027T010000
END:STANDARD
BEGIN:DAYLIGHT
TZOFFSETFROM:+0100
TZOFFSETTO:+0200
TZNAME:CEST
DTSTART:20250330T010000
END:DAYLIGHT
BEGIN:STANDARD
TZOFFSETFROM:+0200
TZOFFSETTO:+0100
TZNAME:CET
DTSTART:20251026T010000
END:STANDARD
BEGIN:DAYLIGHT
TZOFFSETFROM:+0100
TZOFFSETTO:+0200
TZNAME:CEST
DTSTART:20260329T010000
END:DAYLIGHT
BEGIN:STANDARD
TZOFFSETFROM:+0200
TZOFFSETTO:+0100
TZNAME:CET
DTSTART:20261025T010000
END:STANDARD
END:VTIMEZONE
BEGIN:VEVENT
DTSTART;TZID=Europe/Rome:20250629T120000
DTEND;TZID=Europe/Rome:20250629T220000
DTSTAMP:20260422T145930
CREATED:20251010T072022Z
LAST-MODIFIED:20251010T072022Z
UID:2867-1751198400-1751234400@www.associazionegoon.org
SUMMARY:Festa dell'arrivederci
DESCRIPTION:Siamo pronti per le ferie!!!!!!! \nper qualche settimana ognuno di noi cercherà di regalarsi qualche settimana di svago in altre location……e allora perché non ritrovarci tutti per una bel saluto? \nVi aspettiamo il 29 giugno presso i locali dell’Ottagono in via della Conca 7 (zona porto canale) per passare in allegria una bella giornata. \nPS stavolta facciamo le cose in grande…..pranzo\, merenda e cena…..quindi passate quando volete\, ma meglio se avvisate così ci organizziamo.
URL:https://www.associazionegoon.org/event/festa-dellarrivederci/
END:VEVENT
END:VCALENDAR