BEGIN:VCALENDAR
VERSION:2.0
PRODID:-//Associazione Go On Odv - Cremona - ECPv6.15.12.2//NONSGML v1.0//EN
CALSCALE:GREGORIAN
METHOD:PUBLISH
X-ORIGINAL-URL:https://www.associazionegoon.org
X-WR-CALDESC:Eventi per Associazione Go On Odv - Cremona
REFRESH-INTERVAL;VALUE=DURATION:PT1H
X-Robots-Tag:noindex
X-PUBLISHED-TTL:PT1H
BEGIN:VTIMEZONE
TZID:Europe/Rome
BEGIN:DAYLIGHT
TZOFFSETFROM:+0100
TZOFFSETTO:+0200
TZNAME:CEST
DTSTART:20240331T010000
END:DAYLIGHT
BEGIN:STANDARD
TZOFFSETFROM:+0200
TZOFFSETTO:+0100
TZNAME:CET
DTSTART:20241027T010000
END:STANDARD
BEGIN:DAYLIGHT
TZOFFSETFROM:+0100
TZOFFSETTO:+0200
TZNAME:CEST
DTSTART:20250330T010000
END:DAYLIGHT
BEGIN:STANDARD
TZOFFSETFROM:+0200
TZOFFSETTO:+0100
TZNAME:CET
DTSTART:20251026T010000
END:STANDARD
BEGIN:DAYLIGHT
TZOFFSETFROM:+0100
TZOFFSETTO:+0200
TZNAME:CEST
DTSTART:20260329T010000
END:DAYLIGHT
BEGIN:STANDARD
TZOFFSETFROM:+0200
TZOFFSETTO:+0100
TZNAME:CET
DTSTART:20261025T010000
END:STANDARD
END:VTIMEZONE
BEGIN:VEVENT
DTSTART;TZID=Europe/Rome:20250510T150000
DTEND;TZID=Europe/Rome:20250510T170000
DTSTAMP:20260422T132437
CREATED:20250429T090305Z
LAST-MODIFIED:20250429T090305Z
UID:2808-1746889200-1746896400@www.associazionegoon.org
SUMMARY:Lanciatori di stelle - Le origini
DESCRIPTION:Il 10 maggio alle ore 15 presso la Sala Coppetti di Cremona Solidale in via Brescia saremo presenti per un momento di animazione agli ospiti e ai parenti. \nPorteremo in scena lo spettacolo dal titolo Lanciatori di stelle – Le origini \nVi aspettiamo
URL:https://www.associazionegoon.org/event/lanciatori-di-stelle-le-origini/
END:VEVENT
BEGIN:VEVENT
DTSTART;TZID=Europe/Rome:20250511T090000
DTEND;TZID=Europe/Rome:20250511T110000
DTSTAMP:20260422T132437
CREATED:20250429T084902Z
LAST-MODIFIED:20250429T084902Z
UID:2806-1746954000-1746961200@www.associazionegoon.org
SUMMARY:Run for Parkinson
DESCRIPTION:Domenica 11 maggio 2025 presso le Colonie Padane di Cremona \nSi propone di aderire alla camminata di 6 km organizzata dall’associazione La Tartaruga. \nVi aspettiamo numerosi \nRicordiamoci che fare rete è importante
URL:https://www.associazionegoon.org/event/run-for-parkinson/
END:VEVENT
BEGIN:VEVENT
DTSTART;TZID=Europe/Rome:20250517T160000
DTEND;TZID=Europe/Rome:20250517T180000
DTSTAMP:20260422T132437
CREATED:20250429T084450Z
LAST-MODIFIED:20250429T084450Z
UID:2804-1747497600-1747504800@www.associazionegoon.org
SUMMARY:La paura nell'arte
DESCRIPTION:Sabato 17 maggio alle ore 16 presso i locali dell’ottagono in via Conca 7 Cremona in collaborazione con Crart Cremona. \nChe forma ha la paura? La paura\, come ciascuna emozione\, non ha forma ma assume diversi aspetti\, i volti\, i corpi\, i colori\, le posture…di ciò che percepiamo rischioso o minaccioso. La paura cambia immagine! Nel corso della storia a seconda del contesto\, del modo di intendere il Mondo\, del progresso o dell’involuzione dell’umanità\, la paura ha mutato il suo aspetto senza mai prescindere da un dato fondamentale: il volto della paura lo creiamo noi!
URL:https://www.associazionegoon.org/event/la-paura-nellarte/
END:VEVENT
END:VCALENDAR