BEGIN:VCALENDAR
VERSION:2.0
PRODID:-//Associazione Go On Odv - Cremona - ECPv6.15.12.2//NONSGML v1.0//EN
CALSCALE:GREGORIAN
METHOD:PUBLISH
X-ORIGINAL-URL:https://www.associazionegoon.org
X-WR-CALDESC:Eventi per Associazione Go On Odv - Cremona
REFRESH-INTERVAL;VALUE=DURATION:PT1H
X-Robots-Tag:noindex
X-PUBLISHED-TTL:PT1H
BEGIN:VTIMEZONE
TZID:Europe/Rome
BEGIN:DAYLIGHT
TZOFFSETFROM:+0100
TZOFFSETTO:+0200
TZNAME:CEST
DTSTART:20240331T010000
END:DAYLIGHT
BEGIN:STANDARD
TZOFFSETFROM:+0200
TZOFFSETTO:+0100
TZNAME:CET
DTSTART:20241027T010000
END:STANDARD
BEGIN:DAYLIGHT
TZOFFSETFROM:+0100
TZOFFSETTO:+0200
TZNAME:CEST
DTSTART:20250330T010000
END:DAYLIGHT
BEGIN:STANDARD
TZOFFSETFROM:+0200
TZOFFSETTO:+0100
TZNAME:CET
DTSTART:20251026T010000
END:STANDARD
BEGIN:DAYLIGHT
TZOFFSETFROM:+0100
TZOFFSETTO:+0200
TZNAME:CEST
DTSTART:20260329T010000
END:DAYLIGHT
BEGIN:STANDARD
TZOFFSETFROM:+0200
TZOFFSETTO:+0100
TZNAME:CET
DTSTART:20261025T010000
END:STANDARD
END:VTIMEZONE
BEGIN:VEVENT
DTSTART;TZID=Europe/Rome:20250301T160000
DTEND;TZID=Europe/Rome:20250301T180000
DTSTAMP:20260422T095731
CREATED:20250211T062140Z
LAST-MODIFIED:20250211T062140Z
UID:2790-1740844800-1740852000@www.associazionegoon.org
SUMMARY:Guardare la Cappella Sistina con occhi diversi
DESCRIPTION:Ecco il nuovo incontro culturale in leggerezza con Tommaso del Crart.\nSabato 1 marzo ore 16 presso l’Ottagono avremo la possibilità di conoscere la famosa Cappella Sistina in modo interessante e fuori dagli schemi \nPer informazioni e aderire ecco il  recapito 3284060003.
URL:https://www.associazionegoon.org/event/guardare-la-cappella-sistina-con-occhi-diversi/
END:VEVENT
BEGIN:VEVENT
DTSTART;TZID=Europe/Rome:20250316T090000
DTEND;TZID=Europe/Rome:20250316T120000
DTSTAMP:20260422T095731
CREATED:20250227T063828Z
LAST-MODIFIED:20250227T063828Z
UID:2796-1742115600-1742126400@www.associazionegoon.org
SUMMARY:Corsa Rosa
DESCRIPTION:In occasione della classica manifestazione CORSA ROSA che si terrà il 16 marzo alle ore 9:00 proponiamo una camminata tutti insieme sul percorso dei 6 km. \nLa partenza e l’arrivo sarà alle Colonie Padane e il percorso è interamente asfalto. \nQuota di partecipazione 15 euro. Le vostre adesioni a Roberta\, come precisato sul messaggio inviato agli associati\, o in alternativa potete iscrivervi in autonomia specificando di appartenere all’associazione. \nVi aspettiamo numerosi\, perché il ricavato sarà devoluto a LILT\, AIDA\, AGROPOLIS\, Fondazione Azzolini.
URL:https://www.associazionegoon.org/event/corsa-rosa/
END:VEVENT
BEGIN:VEVENT
DTSTART;TZID=Europe/Rome:20250329T153000
DTEND;TZID=Europe/Rome:20250329T170000
DTSTAMP:20260422T095731
CREATED:20250319T110516Z
LAST-MODIFIED:20250319T110516Z
UID:2801-1743262200-1743267600@www.associazionegoon.org
SUMMARY:Assemblea ordinaria soci
DESCRIPTION:Si convocano i soci il giorno 29 marzo alle ore 15:30 presso la sede dell’Ottagono in via della Conca n. 7 a Cremona. \nLa partecipazione è caldamente raccomandata data l’elezione dei componenti del nuovo consiglio direttivo per il triennio 2025-2027.
URL:https://www.associazionegoon.org/event/assemblea-ordinaria-soci/
END:VEVENT
END:VCALENDAR