BEGIN:VCALENDAR
VERSION:2.0
PRODID:-//Associazione Go On Odv - Cremona - ECPv6.15.12.2//NONSGML v1.0//EN
CALSCALE:GREGORIAN
METHOD:PUBLISH
X-WR-CALNAME:Associazione Go On Odv - Cremona
X-ORIGINAL-URL:https://www.associazionegoon.org
X-WR-CALDESC:Eventi per Associazione Go On Odv - Cremona
REFRESH-INTERVAL;VALUE=DURATION:PT1H
X-Robots-Tag:noindex
X-PUBLISHED-TTL:PT1H
BEGIN:VTIMEZONE
TZID:Europe/Rome
BEGIN:DAYLIGHT
TZOFFSETFROM:+0100
TZOFFSETTO:+0200
TZNAME:CEST
DTSTART:20230326T010000
END:DAYLIGHT
BEGIN:STANDARD
TZOFFSETFROM:+0200
TZOFFSETTO:+0100
TZNAME:CET
DTSTART:20231029T010000
END:STANDARD
BEGIN:DAYLIGHT
TZOFFSETFROM:+0100
TZOFFSETTO:+0200
TZNAME:CEST
DTSTART:20240331T010000
END:DAYLIGHT
BEGIN:STANDARD
TZOFFSETFROM:+0200
TZOFFSETTO:+0100
TZNAME:CET
DTSTART:20241027T010000
END:STANDARD
BEGIN:DAYLIGHT
TZOFFSETFROM:+0100
TZOFFSETTO:+0200
TZNAME:CEST
DTSTART:20250330T010000
END:DAYLIGHT
BEGIN:STANDARD
TZOFFSETFROM:+0200
TZOFFSETTO:+0100
TZNAME:CET
DTSTART:20251026T010000
END:STANDARD
END:VTIMEZONE
BEGIN:VEVENT
DTSTART;TZID=Europe/Rome:20241201T090000
DTEND;TZID=Europe/Rome:20241201T190000
DTSTAMP:20260422T044756
CREATED:20241113T092414Z
LAST-MODIFIED:20241113T092414Z
UID:2740-1733043600-1733079600@www.associazionegoon.org
SUMMARY:Mercatino di Natale - Strade del gusto e del cuore
DESCRIPTION:Vi aspettiamo con i nostri lavoretti natalizi in Piazza Stradivari\, in occasione della manifestazione Le Strade del gusto e del cuore  domenica 1 dicembre 2024. \nSarà anche l’occasione per scambiarci gli auguri. Vi aspettiamo
URL:https://www.associazionegoon.org/event/mercatino-di-natale-strade-del-gusto-e-del-cuore/
END:VEVENT
BEGIN:VEVENT
DTSTART;TZID=Europe/Rome:20241207T080000
DTEND;TZID=Europe/Rome:20241208T190000
DTSTAMP:20260422T044756
CREATED:20241113T093128Z
LAST-MODIFIED:20241113T093128Z
UID:2742-1733558400-1733684400@www.associazionegoon.org
SUMMARY:Banchetto informativo e mercatino natalizio
DESCRIPTION:Sabato 7 e domenica 8 dicembre saremo presenti con il nostro banchetto presso l’atrio dell’ospedale civico di Cremona. \nL’occasione sarà utile per rendere noto alla collettività la nostra presenza sul territorio e in questa occasione proporremo anche alcuni articoli in vista delle prossime festività natalizie. \nPassate a trovarci e se potete\, date la vostra collaborazione\, per poterci alternare al banchetto.
URL:https://www.associazionegoon.org/event/banchetto-informativo-e-mercatino-natalizio/
END:VEVENT
BEGIN:VEVENT
DTSTART;TZID=Europe/Rome:20241207T153000
DTEND;TZID=Europe/Rome:20241207T173000
DTSTAMP:20260422T044756
CREATED:20241207T091804Z
LAST-MODIFIED:20241207T091804Z
UID:2757-1733585400-1733592600@www.associazionegoon.org
SUMMARY:Sabati di dicembre - Cremona Solidale
DESCRIPTION:Ciao a tutti….GO ON insieme a Big e Roberta sarà presente il 7 dicembre dalle 15:30 in poi presso la Palazzina Azzolini della struttura Cremona Solidale\, in via Brescia. \nVenite con noi a rallegrare un pomeriggio con canzoni e animazione. Sarà anche un’occasione per festeggiare in anticipo il Natale.
URL:https://www.associazionegoon.org/event/sabati-di-dicembre-cremona-solidale/
END:VEVENT
BEGIN:VEVENT
DTSTART;TZID=Europe/Rome:20241221T180000
DTEND;TZID=Europe/Rome:20241221T220000
DTSTAMP:20260422T044756
CREATED:20241113T093727Z
LAST-MODIFIED:20241113T093727Z
UID:2745-1734804000-1734818400@www.associazionegoon.org
SUMMARY:Apericena di Natale
DESCRIPTION:Ci siamo!!!!!!!! Natale ormai è alle porte e quindi ci vediamo tutti presso la nuova sede Ottagono\, in via della Conca\, per scambiarci gli auguri e festeggiare insieme in allegria. \nAnche quest’anno proponiamo un apericena in amicizia\, dalle 18:00 in poi. \nOgnuno di voi\, se vuole\, potrà portare qualcosa o anche semplicemente passare per un saluto. \nMa l’importante è che siate presenti. \nMi raccomando vi aspettiamo!!!!!!!!
URL:https://www.associazionegoon.org/event/apericena-di-natale-2/
END:VEVENT
END:VCALENDAR