BEGIN:VCALENDAR
VERSION:2.0
PRODID:-//Associazione Go On Odv - Cremona - ECPv6.15.12.2//NONSGML v1.0//EN
CALSCALE:GREGORIAN
METHOD:PUBLISH
X-ORIGINAL-URL:https://www.associazionegoon.org
X-WR-CALDESC:Eventi per Associazione Go On Odv - Cremona
REFRESH-INTERVAL;VALUE=DURATION:PT1H
X-Robots-Tag:noindex
X-PUBLISHED-TTL:PT1H
BEGIN:VTIMEZONE
TZID:Europe/Rome
BEGIN:DAYLIGHT
TZOFFSETFROM:+0100
TZOFFSETTO:+0200
TZNAME:CEST
DTSTART:20220327T010000
END:DAYLIGHT
BEGIN:STANDARD
TZOFFSETFROM:+0200
TZOFFSETTO:+0100
TZNAME:CET
DTSTART:20221030T010000
END:STANDARD
BEGIN:DAYLIGHT
TZOFFSETFROM:+0100
TZOFFSETTO:+0200
TZNAME:CEST
DTSTART:20230326T010000
END:DAYLIGHT
BEGIN:STANDARD
TZOFFSETFROM:+0200
TZOFFSETTO:+0100
TZNAME:CET
DTSTART:20231029T010000
END:STANDARD
BEGIN:DAYLIGHT
TZOFFSETFROM:+0100
TZOFFSETTO:+0200
TZNAME:CEST
DTSTART:20240331T010000
END:DAYLIGHT
BEGIN:STANDARD
TZOFFSETFROM:+0200
TZOFFSETTO:+0100
TZNAME:CET
DTSTART:20241027T010000
END:STANDARD
END:VTIMEZONE
BEGIN:VEVENT
DTSTART;TZID=Europe/Rome:20230501T080000
DTEND;TZID=Europe/Rome:20230501T170000
DTSTAMP:20260421T171059
CREATED:20230403T084620Z
LAST-MODIFIED:20230403T084620Z
UID:2069-1682928000-1682960400@www.associazionegoon.org
SUMMARY:festa dè j òòf còt
DESCRIPTION:partecipazione alla camminata del 1 maggio al Bosco ex Parmigiano in occasione della tradizionale festa
URL:https://www.associazionegoon.org/event/festa-de-j-oof-cot/
END:VEVENT
BEGIN:VEVENT
DTSTART;TZID=Europe/Rome:20230513T100000
DTEND;TZID=Europe/Rome:20230513T120000
DTSTAMP:20260421T171059
CREATED:20230424T075001Z
LAST-MODIFIED:20230424T075001Z
UID:2107-1683972000-1683979200@www.associazionegoon.org
SUMMARY:RUN FOR PARKINSON'S
DESCRIPTION:13 maggio – Parco al Po – Cremona
URL:https://www.associazionegoon.org/event/run-for-parkinsons-2/
END:VEVENT
BEGIN:VEVENT
DTSTART;TZID=Europe/Rome:20230518T210000
DTEND;TZID=Europe/Rome:20230518T230000
DTSTAMP:20260421T171059
CREATED:20230518T094748Z
LAST-MODIFIED:20230518T094748Z
UID:2127-1684443600-1684450800@www.associazionegoon.org
SUMMARY:HYER ROMANVS BRIX – Una nuova pittura tra acqua e pianura
DESCRIPTION:giovedì 18 maggio 2023 alle ore 21.00 presso la Cattedrale di Cremona \nCrArT – Cremona Arte e Turismo APS e AKSAK Project presentano in anteprima il progetto multidisciplinare\, narrazione e musica\, dedicato alla figura del pittore Girolamo da Romano detto “Romanino. L’evento si svolgerà presso la Cattedrale di Cremona osservando parte degli affreschi della navata centrale oggi considerati il punto più alto toccato nel suo percorso artistico in ambito religioso.
URL:https://www.associazionegoon.org/event/hyer-romanvs-brix-una-nuova-pittura-tra-acqua-e-pianura/
END:VEVENT
BEGIN:VEVENT
DTSTART;TZID=Europe/Rome:20230527T190000
DTEND;TZID=Europe/Rome:20230527T220000
DTSTAMP:20260421T171059
CREATED:20230322T083601Z
LAST-MODIFIED:20230322T083601Z
UID:2047-1685214000-1685224800@www.associazionegoon.org
SUMMARY:Trofeo Annicchetta
DESCRIPTION:in ricordo di Sara Pagliari \nCamminata non competitiva ad Annicco (CR) – Piazza Misani
URL:https://www.associazionegoon.org/event/trofeo-annicchetta/
END:VEVENT
END:VCALENDAR