BEGIN:VCALENDAR
VERSION:2.0
PRODID:-//Associazione Go On Odv - Cremona - ECPv6.15.12.2//NONSGML v1.0//EN
CALSCALE:GREGORIAN
METHOD:PUBLISH
X-ORIGINAL-URL:https://www.associazionegoon.org
X-WR-CALDESC:Eventi per Associazione Go On Odv - Cremona
REFRESH-INTERVAL;VALUE=DURATION:PT1H
X-Robots-Tag:noindex
X-PUBLISHED-TTL:PT1H
BEGIN:VTIMEZONE
TZID:Europe/Rome
BEGIN:DAYLIGHT
TZOFFSETFROM:+0100
TZOFFSETTO:+0200
TZNAME:CEST
DTSTART:20220327T010000
END:DAYLIGHT
BEGIN:STANDARD
TZOFFSETFROM:+0200
TZOFFSETTO:+0100
TZNAME:CET
DTSTART:20221030T010000
END:STANDARD
BEGIN:DAYLIGHT
TZOFFSETFROM:+0100
TZOFFSETTO:+0200
TZNAME:CEST
DTSTART:20230326T010000
END:DAYLIGHT
BEGIN:STANDARD
TZOFFSETFROM:+0200
TZOFFSETTO:+0100
TZNAME:CET
DTSTART:20231029T010000
END:STANDARD
BEGIN:DAYLIGHT
TZOFFSETFROM:+0100
TZOFFSETTO:+0200
TZNAME:CEST
DTSTART:20240331T010000
END:DAYLIGHT
BEGIN:STANDARD
TZOFFSETFROM:+0200
TZOFFSETTO:+0100
TZNAME:CET
DTSTART:20241027T010000
END:STANDARD
END:VTIMEZONE
BEGIN:VEVENT
DTSTART;TZID=Europe/Rome:20230106T163000
DTEND;TZID=Europe/Rome:20230106T180000
DTSTAMP:20260422T002440
CREATED:20221229T151352Z
LAST-MODIFIED:20221229T151352Z
UID:1983-1673022600-1673028000@www.associazionegoon.org
SUMMARY:La fabbrica dei sogni
DESCRIPTION:Teatro Ponchielli – Cremona – 06.01.2023 ore 16:30 \nIl mercante dei Sogni ONIRICUS ci condurrà attraverso le fiabe che hanno costellato la nostra infanzia\, tra personaggi vecchi e nuovi … Aladdin\, Mary Poppins\, La Sirenetta e Ursula\, La Bella e la Bestia ma anche Shrek\, Vaiana di Oceania e la regina Elsa di Frozen!\nUno spettacolo emozionante ricco di costumi\, balli e canti rigorosamente dal vivo! Riscopriamo la meraviglia di poter fantasticare come i bambini!
URL:https://www.associazionegoon.org/event/la-fabbrica-dei-sogni/
END:VEVENT
BEGIN:VEVENT
DTSTART;TZID=Europe/Rome:20230128T103000
DTEND;TZID=Europe/Rome:20230128T120000
DTSTAMP:20260422T002440
CREATED:20230123T114523Z
LAST-MODIFIED:20230123T114523Z
UID:2001-1674901800-1674907200@www.associazionegoon.org
SUMMARY:Visita alla Pinacoteca di Cremona
DESCRIPTION:Visita guidata in collaborazione con CRART Cremona \n 
URL:https://www.associazionegoon.org/event/visita-alla-pinacoteca-di-cremona/
END:VEVENT
END:VCALENDAR