BEGIN:VCALENDAR
VERSION:2.0
PRODID:-//Associazione Go On Odv - Cremona - ECPv6.15.12.2//NONSGML v1.0//EN
CALSCALE:GREGORIAN
METHOD:PUBLISH
X-WR-CALNAME:Associazione Go On Odv - Cremona
X-ORIGINAL-URL:https://www.associazionegoon.org
X-WR-CALDESC:Eventi per Associazione Go On Odv - Cremona
REFRESH-INTERVAL;VALUE=DURATION:PT1H
X-Robots-Tag:noindex
X-PUBLISHED-TTL:PT1H
BEGIN:VTIMEZONE
TZID:Europe/Rome
BEGIN:DAYLIGHT
TZOFFSETFROM:+0100
TZOFFSETTO:+0200
TZNAME:CEST
DTSTART:20210328T010000
END:DAYLIGHT
BEGIN:STANDARD
TZOFFSETFROM:+0200
TZOFFSETTO:+0100
TZNAME:CET
DTSTART:20211031T010000
END:STANDARD
BEGIN:DAYLIGHT
TZOFFSETFROM:+0100
TZOFFSETTO:+0200
TZNAME:CEST
DTSTART:20220327T010000
END:DAYLIGHT
BEGIN:STANDARD
TZOFFSETFROM:+0200
TZOFFSETTO:+0100
TZNAME:CET
DTSTART:20221030T010000
END:STANDARD
BEGIN:DAYLIGHT
TZOFFSETFROM:+0100
TZOFFSETTO:+0200
TZNAME:CEST
DTSTART:20230326T010000
END:DAYLIGHT
BEGIN:STANDARD
TZOFFSETFROM:+0200
TZOFFSETTO:+0100
TZNAME:CET
DTSTART:20231029T010000
END:STANDARD
END:VTIMEZONE
BEGIN:VEVENT
DTSTART;TZID=Europe/Rome:20221016T093000
DTEND;TZID=Europe/Rome:20221016T123000
DTSTAMP:20260422T055659
CREATED:20220830T094032Z
LAST-MODIFIED:20220830T094032Z
UID:1859-1665912600-1665923400@www.associazionegoon.org
SUMMARY:21° Half Marathon di Cremona e in contemporanea la 10 km non competitiva
DESCRIPTION:Si torna a correre spingendo i nostri ragazzi per le vie della nostra città. Domenica 16 ottobre si svolgerà la 21° edizione della mezza maratona (21 km) di Cremona e in contemporanea la 10 km non competitiva. Chi volesse partecipare come spingitore delle carrozzine per uno dei due percorsi ci contatti all’indirizzo email dell’associazione (goon.cremona@libero.it) \n \nper informazioni sulla manifestazione vedere il sito https://maratoninadicremona.it/HMC/
URL:https://www.associazionegoon.org/event/21-half-marathon-di-cremona-e-in-contemporanea-la-10-km-non-competitiva/
END:VEVENT
END:VCALENDAR