BEGIN:VCALENDAR
VERSION:2.0
PRODID:-//Associazione Go On Odv - Cremona - ECPv6.15.12.2//NONSGML v1.0//EN
CALSCALE:GREGORIAN
METHOD:PUBLISH
X-WR-CALNAME:Associazione Go On Odv - Cremona
X-ORIGINAL-URL:https://www.associazionegoon.org
X-WR-CALDESC:Eventi per Associazione Go On Odv - Cremona
REFRESH-INTERVAL;VALUE=DURATION:PT1H
X-Robots-Tag:noindex
X-PUBLISHED-TTL:PT1H
BEGIN:VTIMEZONE
TZID:Europe/Rome
BEGIN:DAYLIGHT
TZOFFSETFROM:+0100
TZOFFSETTO:+0200
TZNAME:CEST
DTSTART:20210328T010000
END:DAYLIGHT
BEGIN:STANDARD
TZOFFSETFROM:+0200
TZOFFSETTO:+0100
TZNAME:CET
DTSTART:20211031T010000
END:STANDARD
BEGIN:DAYLIGHT
TZOFFSETFROM:+0100
TZOFFSETTO:+0200
TZNAME:CEST
DTSTART:20220327T010000
END:DAYLIGHT
BEGIN:STANDARD
TZOFFSETFROM:+0200
TZOFFSETTO:+0100
TZNAME:CET
DTSTART:20221030T010000
END:STANDARD
BEGIN:DAYLIGHT
TZOFFSETFROM:+0100
TZOFFSETTO:+0200
TZNAME:CEST
DTSTART:20230326T010000
END:DAYLIGHT
BEGIN:STANDARD
TZOFFSETFROM:+0200
TZOFFSETTO:+0100
TZNAME:CET
DTSTART:20231029T010000
END:STANDARD
END:VTIMEZONE
BEGIN:VEVENT
DTSTART;TZID=Europe/Rome:20220605T150000
DTEND;TZID=Europe/Rome:20220605T190000
DTSTAMP:20260422T124628
CREATED:20220606T142828Z
LAST-MODIFIED:20220606T142940Z
UID:1826-1654441200-1654455600@www.associazionegoon.org
SUMMARY:Finali Campionato Lombardia Sud - Palaradi Cremona
DESCRIPTION:
URL:https://www.associazionegoon.org/event/finali-campionato-lombardia-sud-palaradi-cremona/
END:VEVENT
BEGIN:VEVENT
DTSTART;TZID=Europe/Rome:20220611T150000
DTEND;TZID=Europe/Rome:20220611T190000
DTSTAMP:20260422T124628
CREATED:20220505T124211Z
LAST-MODIFIED:20220505T124211Z
UID:1755-1654959600-1654974000@www.associazionegoon.org
SUMMARY:Visita guidata città di Sabbioneta
DESCRIPTION:spostamento con mezzi propri – visita guidata ai monumenti privi di barriere architettoniche – a seguire merenda/aperitivo presso un locale del centro storico
URL:https://www.associazionegoon.org/event/visita-guidata-citta-di-sabbioneta/
END:VEVENT
END:VCALENDAR