BEGIN:VCALENDAR
VERSION:2.0
PRODID:-//Associazione Go On Odv - Cremona - ECPv6.15.12.2//NONSGML v1.0//EN
CALSCALE:GREGORIAN
METHOD:PUBLISH
X-WR-CALNAME:Associazione Go On Odv - Cremona
X-ORIGINAL-URL:https://www.associazionegoon.org
X-WR-CALDESC:Eventi per Associazione Go On Odv - Cremona
REFRESH-INTERVAL;VALUE=DURATION:PT1H
X-Robots-Tag:noindex
X-PUBLISHED-TTL:PT1H
BEGIN:VTIMEZONE
TZID:Europe/Rome
BEGIN:DAYLIGHT
TZOFFSETFROM:+0100
TZOFFSETTO:+0200
TZNAME:CEST
DTSTART:20250330T010000
END:DAYLIGHT
BEGIN:STANDARD
TZOFFSETFROM:+0200
TZOFFSETTO:+0100
TZNAME:CET
DTSTART:20251026T010000
END:STANDARD
BEGIN:DAYLIGHT
TZOFFSETFROM:+0100
TZOFFSETTO:+0200
TZNAME:CEST
DTSTART:20260329T010000
END:DAYLIGHT
BEGIN:STANDARD
TZOFFSETFROM:+0200
TZOFFSETTO:+0100
TZNAME:CET
DTSTART:20261025T010000
END:STANDARD
BEGIN:DAYLIGHT
TZOFFSETFROM:+0100
TZOFFSETTO:+0200
TZNAME:CEST
DTSTART:20270328T010000
END:DAYLIGHT
BEGIN:STANDARD
TZOFFSETFROM:+0200
TZOFFSETTO:+0100
TZNAME:CET
DTSTART:20271031T010000
END:STANDARD
END:VTIMEZONE
BEGIN:VEVENT
DTSTART;TZID=Europe/Rome:20260510T150000
DTEND;TZID=Europe/Rome:20260510T190000
DTSTAMP:20260420T021027
CREATED:20260318T124737Z
LAST-MODIFIED:20260318T124737Z
UID:2935-1778425200-1778439600@www.associazionegoon.org
SUMMARY:GO ON Walk &Party
DESCRIPTION:Siete pronti???????? \nTorna la GO ON WALK!!!!!!!!!!! \nDomenica 10 maggio cammineremo tutti insieme\, allegramente colorati\, grazie alla maglietta ufficiale GO ON e mascherati (per chi vuole)\, per circa 5 km. Partiremo dai locali dell’ottagono alle ore 15:30 e percorreremo il percorso ciclabile lungo Po. \nAl ritorno merenda/cena per tutti. \nRitrovo alle ore 15:00 \nVI aspettiamo!!!!!!!!!!!
URL:https://www.associazionegoon.org/event/go-on-walk-party/
END:VEVENT
BEGIN:VEVENT
DTSTART;TZID=Europe/Rome:20260516T160000
DTEND;TZID=Europe/Rome:20260516T180000
DTSTAMP:20260420T021027
CREATED:20260325T084119Z
LAST-MODIFIED:20260325T084522Z
UID:2945-1778947200-1778954400@www.associazionegoon.org
SUMMARY:Il Torrazzo di Cremona
DESCRIPTION:Il CRART Cremona ci accompagnerà in un bellissimo percorso virtuale alla scoperta del nostro Torrazzo…tante curiosità e nozioni che approfondiranno la nostra conoscenza sul bellissimo monumento della nostra città. \nL’incontro sarà organizzato presso i locali dell’Ottagono\, in zona Porto Canale a Cremona\, il giorno 16 maggio alle ore 16:00. \nPer le adesioni seguire istruzioni sulla chat degli associati
URL:https://www.associazionegoon.org/event/mosaico/
END:VEVENT
BEGIN:VEVENT
DTSTART;TZID=Europe/Rome:20260530T150000
DTEND;TZID=Europe/Rome:20260530T170000
DTSTAMP:20260420T021027
CREATED:20260325T085755Z
LAST-MODIFIED:20260325T085755Z
UID:2953-1780153200-1780160400@www.associazionegoon.org
SUMMARY:La bottega del pittore
DESCRIPTION:Un bellissimo laboratorio dedicato alla conoscenza dell’antichissima arte di preparare i colori. \nVerrà organizzato presso la sala del quattrocento del Museo Civico Ala Ponzone di Cremona\, il giorno 30 maggio alle ore 15:00 \nAspettiamo le vostre prenotazioni seguendo le istruzioni date in chat associati. \nImpareremo a preparare i colori riducendo in polvere la materia prima\, mescolandola poi con tuorlo d’uovo\, acque e aceto per poter poi riprodurre un antico dipinto.
URL:https://www.associazionegoon.org/event/la-bottega-del-pittore/
END:VEVENT
END:VCALENDAR