BEGIN:VCALENDAR
VERSION:2.0
PRODID:-//Associazione Go On Odv - Cremona - ECPv6.15.12.2//NONSGML v1.0//EN
CALSCALE:GREGORIAN
METHOD:PUBLISH
X-WR-CALNAME:Associazione Go On Odv - Cremona
X-ORIGINAL-URL:https://www.associazionegoon.org
X-WR-CALDESC:Eventi per Associazione Go On Odv - Cremona
REFRESH-INTERVAL;VALUE=DURATION:PT1H
X-Robots-Tag:noindex
X-PUBLISHED-TTL:PT1H
BEGIN:VTIMEZONE
TZID:Europe/Rome
BEGIN:DAYLIGHT
TZOFFSETFROM:+0100
TZOFFSETTO:+0200
TZNAME:CEST
DTSTART:20180325T010000
END:DAYLIGHT
BEGIN:STANDARD
TZOFFSETFROM:+0200
TZOFFSETTO:+0100
TZNAME:CET
DTSTART:20181028T010000
END:STANDARD
BEGIN:DAYLIGHT
TZOFFSETFROM:+0100
TZOFFSETTO:+0200
TZNAME:CEST
DTSTART:20190331T010000
END:DAYLIGHT
BEGIN:STANDARD
TZOFFSETFROM:+0200
TZOFFSETTO:+0100
TZNAME:CET
DTSTART:20191027T010000
END:STANDARD
BEGIN:DAYLIGHT
TZOFFSETFROM:+0100
TZOFFSETTO:+0200
TZNAME:CEST
DTSTART:20200329T010000
END:DAYLIGHT
BEGIN:STANDARD
TZOFFSETFROM:+0200
TZOFFSETTO:+0100
TZNAME:CET
DTSTART:20201025T010000
END:STANDARD
END:VTIMEZONE
BEGIN:VEVENT
DTSTART;TZID=Europe/Rome:20190616T150000
DTEND;TZID=Europe/Rome:20190616T190000
DTSTAMP:20260420T024426
CREATED:20190613T200512Z
LAST-MODIFIED:20190613T200522Z
UID:1098-1560697200-1560711600@www.associazionegoon.org
SUMMARY:Festa del benessere e della solidarietà 16 Giugno 2019
DESCRIPTION:Domenica 16 Giugno ci trovate alla festa del benessere e della solidarietà nel parco di Cremona Solidale. Passate a trovarci!!! \ndav \ndav
URL:https://www.associazionegoon.org/event/festa-del-benessere-e-della-solidarieta-16-giugno-2019/
LOCATION:Cremona Solidale – area parco storico\, via Brescia 207\, Cremona\, 26100
END:VEVENT
END:VCALENDAR