BEGIN:VCALENDAR
VERSION:2.0
PRODID:-//Associazione Go On Odv - Cremona - ECPv6.15.12.2//NONSGML v1.0//EN
CALSCALE:GREGORIAN
METHOD:PUBLISH
X-WR-CALNAME:Associazione Go On Odv - Cremona
X-ORIGINAL-URL:https://www.associazionegoon.org
X-WR-CALDESC:Eventi per Associazione Go On Odv - Cremona
REFRESH-INTERVAL;VALUE=DURATION:PT1H
X-Robots-Tag:noindex
X-PUBLISHED-TTL:PT1H
BEGIN:VTIMEZONE
TZID:Europe/Rome
BEGIN:DAYLIGHT
TZOFFSETFROM:+0100
TZOFFSETTO:+0200
TZNAME:CEST
DTSTART:20240331T010000
END:DAYLIGHT
BEGIN:STANDARD
TZOFFSETFROM:+0200
TZOFFSETTO:+0100
TZNAME:CET
DTSTART:20241027T010000
END:STANDARD
BEGIN:DAYLIGHT
TZOFFSETFROM:+0100
TZOFFSETTO:+0200
TZNAME:CEST
DTSTART:20250330T010000
END:DAYLIGHT
BEGIN:STANDARD
TZOFFSETFROM:+0200
TZOFFSETTO:+0100
TZNAME:CET
DTSTART:20251026T010000
END:STANDARD
BEGIN:DAYLIGHT
TZOFFSETFROM:+0100
TZOFFSETTO:+0200
TZNAME:CEST
DTSTART:20260329T010000
END:DAYLIGHT
BEGIN:STANDARD
TZOFFSETFROM:+0200
TZOFFSETTO:+0100
TZNAME:CET
DTSTART:20261025T010000
END:STANDARD
BEGIN:DAYLIGHT
TZOFFSETFROM:+0100
TZOFFSETTO:+0200
TZNAME:CEST
DTSTART:20270328T010000
END:DAYLIGHT
BEGIN:STANDARD
TZOFFSETFROM:+0200
TZOFFSETTO:+0100
TZNAME:CET
DTSTART:20271031T010000
END:STANDARD
END:VTIMEZONE
BEGIN:VEVENT
DTSTART;TZID=Europe/Rome:20251005T100000
DTEND;TZID=Europe/Rome:20251005T190000
DTSTAMP:20260419T222057
CREATED:20251010T074624Z
LAST-MODIFIED:20251010T074624Z
UID:2877-1759658400-1759690800@www.associazionegoon.org
SUMMARY:Festa del volontariato
DESCRIPTION:Come ogni anno saremo presenti con lo stand dimostrativo alla Festa del Volontariato. \nQuindi domenica 5 ottobre dalle 10:00 alle 19:00 vi aspettiamo in Piazza Duomo. \nPS se qualcuno vuole dare adesione per presidiare il banchetto ci comunichi la propria adesione.
URL:https://www.associazionegoon.org/event/festa-del-volontariato/
END:VEVENT
BEGIN:VEVENT
DTSTART;TZID=Europe/Rome:20251011T160000
DTEND;TZID=Europe/Rome:20251011T180000
DTSTAMP:20260419T222057
CREATED:20251010T070543Z
LAST-MODIFIED:20251010T070543Z
UID:2862-1760198400-1760205600@www.associazionegoon.org
SUMMARY:Matematica e arte
DESCRIPTION:Un incontro culturale fuori dagli schemi\, in collaborazione con CRART. \nSabato 11 ottobre alle ore 16\, presso i locali dell’Ottagono in via della Conca 7 (zona porto canale CR) ci verrà illustrato il dialogo costante tra numeri ed immagini. \nVi aspettiamo!!!!!!!
URL:https://www.associazionegoon.org/event/matematica-e-arte/
END:VEVENT
BEGIN:VEVENT
DTSTART;TZID=Europe/Rome:20251018T143000
DTEND;TZID=Europe/Rome:20251018T220000
DTSTAMP:20260419T222057
CREATED:20251010T074352Z
LAST-MODIFIED:20251010T074352Z
UID:2875-1760797800-1760824800@www.associazionegoon.org
SUMMARY:GO ON WALK detta anche mangialonga
DESCRIPTION:Ehiiiiiiiiii…….ci siete? la premiata GO ON & C. organizza per sabato 18 ottobre una camminata insieme nel puro stile cammina e mangia. \nCi si ritroverà alle 14:30 presso i locali dell’Ottagono in via della Conca 7 (zona Porto Canale CR) e tutti insieme faremo un percorso di circa 5km (per i più temerari ci potremo spingere fino alle colonie padane) tuto sul lungo Po. Andata e ritorno con ricco buffet al rientro e soprattutto la possibilità di partecipare ad una bellissima cena in compagnia in puro stile GO ON. \nVI ASPETTIAMO!!!!!!!!!!!!!!
URL:https://www.associazionegoon.org/event/go-on-walk-detta-anche-mangialonga/
END:VEVENT
BEGIN:VEVENT
DTSTART;TZID=Europe/Rome:20251108T180000
DTEND;TZID=Europe/Rome:20251108T223000
DTSTAMP:20260419T222057
CREATED:20251017T045412Z
LAST-MODIFIED:20251017T045412Z
UID:2882-1762624800-1762641000@www.associazionegoon.org
SUMMARY:Festa anni 70
DESCRIPTION:“FESTA GO ON ANNI ’70”\nSiete invitati a partecipare alla festa anni ’70 che si terrà sabato 8 novembre 2025 presso i locali dell’ottagono in via della Conca (zona porto canale CR).\nCi troveremo alle ore 18 e si chiede io contributo “mangereccio” da parte di ciascuno.\nRigorosamente vestiti anni’70. \nSi ballerà con l ‘atmosfera della musica di quegli anni e sarà l’ occasione per festeggiare i compleanni e anniversari di novembre .\nSarà premiato il travestimento più originale.\nDare adesione entro il 2/11.
URL:https://www.associazionegoon.org/event/festa-anni-70/
END:VEVENT
BEGIN:VEVENT
DTSTART;TZID=Europe/Rome:20251122T104000
DTEND;TZID=Europe/Rome:20251122T123000
DTSTAMP:20260419T222057
CREATED:20251030T132740Z
LAST-MODIFIED:20251030T132740Z
UID:2890-1763808000-1763814600@www.associazionegoon.org
SUMMARY:Boccaccio Boccaccino
DESCRIPTION:In occasione dei 500 anni dalla morte dell’artista Boccaccio\, il Museo Diocesano di Cremona ha allestito la mostra monografica su Boccaccio Boccaccino. \nInsieme a Crart avremo l’opportunità di apprezzare le opere esposte il giorno 22 novembre alle ore 10:40. \nPer informazioni chiedere ad Elena
URL:https://www.associazionegoon.org/event/boccaccio-boccaccino/
END:VEVENT
BEGIN:VEVENT
DTSTART;TZID=Europe/Rome:20251122T170000
DTEND;TZID=Europe/Rome:20251122T200000
DTSTAMP:20260419T222057
CREATED:20251030T132229Z
LAST-MODIFIED:20251030T132229Z
UID:2887-1763830800-1763841600@www.associazionegoon.org
SUMMARY:Prove generali Nabucco
DESCRIPTION:Il teatro Ponchielli offre la possibilità di partecipare alla prova generale del Nabucco di Giuseppe Verdi\, di produzione del teatro\, il giorno mercoledì 22 novembre alle ore 17:00. \nAvremo modo di assistere all’eroica lotta tra libertà e oppressione\, con il celebre coro degli Ebrei “Va pensiero” che emozionerà sicuramente i presenti. \nBuona visione
URL:https://www.associazionegoon.org/event/prove-generali-nabucco/
END:VEVENT
BEGIN:VEVENT
DTSTART;TZID=Europe/Rome:20251205T090000
DTEND;TZID=Europe/Rome:20251207T180000
DTSTAMP:20260419T222057
CREATED:20251030T133143Z
LAST-MODIFIED:20251030T133143Z
UID:2892-1764925200-1765130400@www.associazionegoon.org
SUMMARY:Banchetto natalizio
DESCRIPTION:L’ospedale di Cremona ci offre l’opportunità di allestire il banchetto con gli oggetti natalizi nell’atrio della struttura. \nSarà anche l’occasione per rapportarsi con l’utenza di passaggio nella struttura ospedaliera e permetterci di divulgare il nostro operato. \nSaremo presenti il 5/6/7 dicembre
URL:https://www.associazionegoon.org/event/banchetto-natalizio/
END:VEVENT
BEGIN:VEVENT
DTSTART;TZID=Europe/Rome:20251214T090000
DTEND;TZID=Europe/Rome:20251214T190000
DTSTAMP:20260419T222057
CREATED:20251030T133512Z
LAST-MODIFIED:20251030T133512Z
UID:2894-1765702800-1765738800@www.associazionegoon.org
SUMMARY:Christmas Edition - le strade del gusto\, della bellezza e del gioco
DESCRIPTION:In occasione dell’edizione natalizia delle Strade del gusto\, della bellezza e del gioco\, saremo presenti con il nostro stand in Piazza Stradivari il giorno 14 dicembre dalle ore 9:00 alle 19:00. \nLa giornata sarà allietata dalle canzoni dei nostri Bigs. \nVi aspettiamo numerosi….sarà anche l’occasione per scambiarci gli auguri di Natale.
URL:https://www.associazionegoon.org/event/christmas-edition-le-strade-del-gusto-della-bellezza-e-del-gioco-2/
END:VEVENT
BEGIN:VEVENT
DTSTART;TZID=Europe/Rome:20251220T180000
DTEND;TZID=Europe/Rome:20251220T220000
DTSTAMP:20260419T222057
CREATED:20251030T133805Z
LAST-MODIFIED:20251030T133805Z
UID:2896-1766253600-1766268000@www.associazionegoon.org
SUMMARY:AUGURI DI NATALE
DESCRIPTION:Ebbene si….eccoci pronti a festeggiare in allegria il prossimo Natale. \nVi aspettiamo all’apericena presso i locali dell’Ottagono\, in via della Conca 7 (zona Porto Canale Cremona)\, il giorno 20 dicembre dalle 18 in poi. \nPartecipate numerosi…..musica e divertimento non mancheranno.
URL:https://www.associazionegoon.org/event/auguri-di-natale/
END:VEVENT
BEGIN:VEVENT
DTSTART;TZID=Europe/Rome:20251226T160000
DTEND;TZID=Europe/Rome:20251226T180000
DTSTAMP:20260419T222057
CREATED:20251201T104429Z
LAST-MODIFIED:20251201T104429Z
UID:2899-1766764800-1766772000@www.associazionegoon.org
SUMMARY:Cin cin là Operetta
DESCRIPTION:Per passare il pomeriggio di Santo Stefano in allegria il Teatro Ponchielli offre l’opportunità a prezzo ridotto di partecipare allo spettacolo Cin-Cin-là di Carlo Lombardo e Virgilio Ranzato. \nLo spettacolo è in programmazione alle ore 16:00 \nPer adesioni seguire le istruzioni date sulla chat degli associati.
URL:https://www.associazionegoon.org/event/cin-cin-la-operetta/
END:VEVENT
BEGIN:VEVENT
DTSTART;TZID=Europe/Rome:20260112T153000
DTEND;TZID=Europe/Rome:20260112T173000
DTSTAMP:20260419T222057
CREATED:20251201T104715Z
LAST-MODIFIED:20251201T105217Z
UID:2901-1768231800-1768239000@www.associazionegoon.org
SUMMARY:L'anatra all'arancia
DESCRIPTION:Il giorno 12 gennaio alle ore 15:30 ci viene data l’opportunità di partecipare allo spettacolo con Emilio Solfrizzi e Irene Ferri al Teatro Ponchielli. \nPer le adesioni seguire le istruzioni date sulla chat degli associati.
URL:https://www.associazionegoon.org/event/lanatra-allarancia/
END:VEVENT
BEGIN:VEVENT
DTSTART;TZID=Europe/Rome:20260201T180000
DTEND;TZID=Europe/Rome:20260201T200000
DTSTAMP:20260419T222057
CREATED:20251201T104953Z
LAST-MODIFIED:20251201T104953Z
UID:2903-1769968800-1769976000@www.associazionegoon.org
SUMMARY:Max Giusti - Bollicine
DESCRIPTION:Max Giusti mattatore di Bollicine in programma per il giorno 1 febbraio 2026 alle ore 18:00 al Teatro Ponchielli. \nPer le adesioni seguire le istruzioni date sulla chat degli associati.
URL:https://www.associazionegoon.org/event/max-giusti-bollicine/
END:VEVENT
BEGIN:VEVENT
DTSTART;TZID=Europe/Rome:20260207T080000
DTEND;TZID=Europe/Rome:20260207T170000
DTSTAMP:20260419T222057
CREATED:20260124T072418Z
LAST-MODIFIED:20260124T072418Z
UID:2917-1770451200-1770483600@www.associazionegoon.org
SUMMARY:Albrect Durer....opere\, misteri\, alchimie e i segreti del quadrato magico.
DESCRIPTION:Sabato 7 febbraio alle ore 16:30 Tommaso del Crart ci accompagnerà verso la conoscenza di: Albrect Durer \nQuesto artista è la porta che collega il rinascimento italiano con la cultura del nord europa. Pittore\, incisore e matematico lascia il segno non solo nell’area tedesca dalla quale proviene ma i suoi lavori formano parte dei pittori italiani del settentrione\, come la visita alla mostra dedicata a Boccaccio Boccaccino ha permesso di dimostrare\, che gli sono debitori di tante iconografie. Il suo avvicinamento ad ambienti neoplatonici lo porterà a creare immagini dall’alto contenuto esoterico come l’incisione Melancolia I della quale si cercherà di spiegare\, per quanto possibile\, i numerosi messaggi. \nAdesioni a Elena Garini come da istruzioni date sulla chat degli associati
URL:https://www.associazionegoon.org/event/albrect-durer-opere-misteri-alchimie-e-i-segreti-del-quadrato-magico/
END:VEVENT
BEGIN:VEVENT
DTSTART;TZID=Europe/Rome:20260221T180000
DTEND;TZID=Europe/Rome:20260221T220000
DTSTAMP:20260419T222057
CREATED:20260114T151346Z
LAST-MODIFIED:20260114T151346Z
UID:2914-1771696800-1771711200@www.associazionegoon.org
SUMMARY:Carnival Party
DESCRIPTION:Siete pronti??????? \nil 21 febbraio alle ore 18:00 ci troveremo presso i locali dell’Ottagono\, in via della Conca 7 (zona Porto Canale Cremona)\, per un apericena in maschera. \nTravestimenti\, buon cibo e bevande\, buonissima musica e balli. \nAdesioni come da indicazioni date sulla chat degli associati. \nVI ASPETTIAMO NUMEROSI!!!!!!!!!!!!!!!
URL:https://www.associazionegoon.org/event/carnival-party/
END:VEVENT
BEGIN:VEVENT
DTSTART;TZID=Europe/Rome:20260314T150000
DTEND;TZID=Europe/Rome:20260314T170000
DTSTAMP:20260419T222057
CREATED:20260309T143255Z
LAST-MODIFIED:20260309T143255Z
UID:2922-1773500400-1773507600@www.associazionegoon.org
SUMMARY:Il ritorno della primavera e il risveglio della natura
DESCRIPTION:Bellissima opportunità \nIl giorno sabato 14 marzo alle ore 15:00 presso il Museo Archeologico San Lorenzo di Cremona ci verrà data l’opportunità di una bellissima attività di laboratorio: un viaggio tra gli odori e i profumi della natura con la preparazione di sacchetti profumati. \nL’attività ci permetterà di venire a conoscenza di Demetra Ade e Persefone ed essere coinvolti nel ritorno della primavera e nel risveglio della natura. \nIndicazioni per la prenotazione sulla chat degli associati.
URL:https://www.associazionegoon.org/event/il-ritorno-della-primavera-e-il-risveglio-della-natura/
END:VEVENT
BEGIN:VEVENT
DTSTART;TZID=Europe/Rome:20260329T203000
DTEND;TZID=Europe/Rome:20260329T223000
DTSTAMP:20260419T222057
CREATED:20260325T085305Z
LAST-MODIFIED:20260325T085305Z
UID:2951-1774816200-1774823400@www.associazionegoon.org
SUMMARY:Romeo & Giulietta - L'amore è saltimbanco
DESCRIPTION:Il giorno 29 marzo alle ore 20:30 si terrà presso il Teatro Ponchielli lo spettacolo di prosa Rome & Giulietta. \nEnergia\, vitalità e ironia che trasformano la più nota storia d’amore di tutti i tempi in maschere\, improvvisazione e poesia.
URL:https://www.associazionegoon.org/event/romeo-giulietta-lamore-e-saltimbanco/
END:VEVENT
BEGIN:VEVENT
DTSTART;TZID=Europe/Rome:20260406T120000
DTEND;TZID=Europe/Rome:20260406T170000
DTSTAMP:20260419T222057
CREATED:20260318T125119Z
LAST-MODIFIED:20260318T125119Z
UID:2938-1775476800-1775494800@www.associazionegoon.org
SUMMARY:GRIGLIATA DI PASQUETTA
DESCRIPTION:Che fate il giorno di pasquetta? \nvi aspettiamo presso i locali dell’Ottagono (zona porto canale di Cremona) alle ore 12:00. \nDopo la grigliata chiacchiere e giochi. \nPer le adesioni seguire le istruzioni date sulla chat degli associati
URL:https://www.associazionegoon.org/event/grigliata-di-pasquetta/
END:VEVENT
BEGIN:VEVENT
DTSTART;TZID=Europe/Rome:20260502T150000
DTEND;TZID=Europe/Rome:20260502T170000
DTSTAMP:20260419T222057
CREATED:20260318T125509Z
LAST-MODIFIED:20260325T084943Z
UID:2943-1777734000-1777741200@www.associazionegoon.org
SUMMARY:Laboratorio di mosaico
DESCRIPTION:Presso il Museo Archeologico San Lorenzo di Cremona verrà organizzato un bellissimo laboratorio per creare mosaici con conchiglie e vetri colorati. \nAspettiamo le vostre prenotazioni per il giorno 2 maggio alle ore 15:00\, seguendo le istruzioni date sulla chat degli associati.
URL:https://www.associazionegoon.org/event/stay-tuned-2/
END:VEVENT
BEGIN:VEVENT
DTSTART;TZID=Europe/Rome:20260510T150000
DTEND;TZID=Europe/Rome:20260510T190000
DTSTAMP:20260419T222057
CREATED:20260318T124737Z
LAST-MODIFIED:20260318T124737Z
UID:2935-1778425200-1778439600@www.associazionegoon.org
SUMMARY:GO ON Walk &Party
DESCRIPTION:Siete pronti???????? \nTorna la GO ON WALK!!!!!!!!!!! \nDomenica 10 maggio cammineremo tutti insieme\, allegramente colorati\, grazie alla maglietta ufficiale GO ON e mascherati (per chi vuole)\, per circa 5 km. Partiremo dai locali dell’ottagono alle ore 15:30 e percorreremo il percorso ciclabile lungo Po. \nAl ritorno merenda/cena per tutti. \nRitrovo alle ore 15:00 \nVI aspettiamo!!!!!!!!!!!
URL:https://www.associazionegoon.org/event/go-on-walk-party/
END:VEVENT
BEGIN:VEVENT
DTSTART;TZID=Europe/Rome:20260516T160000
DTEND;TZID=Europe/Rome:20260516T180000
DTSTAMP:20260419T222057
CREATED:20260325T084119Z
LAST-MODIFIED:20260325T084522Z
UID:2945-1778947200-1778954400@www.associazionegoon.org
SUMMARY:Il Torrazzo di Cremona
DESCRIPTION:Il CRART Cremona ci accompagnerà in un bellissimo percorso virtuale alla scoperta del nostro Torrazzo…tante curiosità e nozioni che approfondiranno la nostra conoscenza sul bellissimo monumento della nostra città. \nL’incontro sarà organizzato presso i locali dell’Ottagono\, in zona Porto Canale a Cremona\, il giorno 16 maggio alle ore 16:00. \nPer le adesioni seguire istruzioni sulla chat degli associati
URL:https://www.associazionegoon.org/event/mosaico/
END:VEVENT
BEGIN:VEVENT
DTSTART;TZID=Europe/Rome:20260530T150000
DTEND;TZID=Europe/Rome:20260530T170000
DTSTAMP:20260419T222057
CREATED:20260325T085755Z
LAST-MODIFIED:20260325T085755Z
UID:2953-1780153200-1780160400@www.associazionegoon.org
SUMMARY:La bottega del pittore
DESCRIPTION:Un bellissimo laboratorio dedicato alla conoscenza dell’antichissima arte di preparare i colori. \nVerrà organizzato presso la sala del quattrocento del Museo Civico Ala Ponzone di Cremona\, il giorno 30 maggio alle ore 15:00 \nAspettiamo le vostre prenotazioni seguendo le istruzioni date in chat associati. \nImpareremo a preparare i colori riducendo in polvere la materia prima\, mescolandola poi con tuorlo d’uovo\, acque e aceto per poter poi riprodurre un antico dipinto.
URL:https://www.associazionegoon.org/event/la-bottega-del-pittore/
END:VEVENT
END:VCALENDAR