BEGIN:VCALENDAR
VERSION:2.0
PRODID:-//Associazione Go On Odv - Cremona - ECPv6.15.12.2//NONSGML v1.0//EN
CALSCALE:GREGORIAN
METHOD:PUBLISH
X-WR-CALNAME:Associazione Go On Odv - Cremona
X-ORIGINAL-URL:https://www.associazionegoon.org
X-WR-CALDESC:Eventi per Associazione Go On Odv - Cremona
REFRESH-INTERVAL;VALUE=DURATION:PT1H
X-Robots-Tag:noindex
X-PUBLISHED-TTL:PT1H
BEGIN:VTIMEZONE
TZID:Europe/Rome
BEGIN:DAYLIGHT
TZOFFSETFROM:+0100
TZOFFSETTO:+0200
TZNAME:CEST
DTSTART:20220327T010000
END:DAYLIGHT
BEGIN:STANDARD
TZOFFSETFROM:+0200
TZOFFSETTO:+0100
TZNAME:CET
DTSTART:20221030T010000
END:STANDARD
BEGIN:DAYLIGHT
TZOFFSETFROM:+0100
TZOFFSETTO:+0200
TZNAME:CEST
DTSTART:20230326T010000
END:DAYLIGHT
BEGIN:STANDARD
TZOFFSETFROM:+0200
TZOFFSETTO:+0100
TZNAME:CET
DTSTART:20231029T010000
END:STANDARD
BEGIN:DAYLIGHT
TZOFFSETFROM:+0100
TZOFFSETTO:+0200
TZNAME:CEST
DTSTART:20240331T010000
END:DAYLIGHT
BEGIN:STANDARD
TZOFFSETFROM:+0200
TZOFFSETTO:+0100
TZNAME:CET
DTSTART:20241027T010000
END:STANDARD
BEGIN:DAYLIGHT
TZOFFSETFROM:+0100
TZOFFSETTO:+0200
TZNAME:CEST
DTSTART:20250330T010000
END:DAYLIGHT
BEGIN:STANDARD
TZOFFSETFROM:+0200
TZOFFSETTO:+0100
TZNAME:CET
DTSTART:20251026T010000
END:STANDARD
END:VTIMEZONE
BEGIN:VEVENT
DTSTART;TZID=Europe/Rome:20240609T080000
DTEND;TZID=Europe/Rome:20240609T190000
DTSTAMP:20260422T032150
CREATED:20240206T081227Z
LAST-MODIFIED:20240206T081227Z
UID:2460-1717920000-1717959600@www.associazionegoon.org
SUMMARY:MOVIELAND
DESCRIPTION:Domenica 9 giugno ci recheremo tutti insieme al parco di divertimenti MOVIELAND\, a Lazise\, per poter passare una giornata in allegria. \nIl parco offre attrazioni e intrattenimento dedicati al cinema: attori\, stuntmen\, ballerini e piloti contribuiscono a ricreare tutta la magia di Hollywood sulle sponde del Lago di Garda. \nSulla chat degli associati sono state date tutte le indicazioni in merito. \nAttendiamo le vostre adesioni!
URL:https://www.associazionegoon.org/event/movieland/
END:VEVENT
BEGIN:VEVENT
DTSTART;TZID=Europe/Rome:20240602T100000
DTEND;TZID=Europe/Rome:20240602T120000
DTSTAMP:20260422T032150
CREATED:20240528T115724Z
LAST-MODIFIED:20240528T115724Z
UID:2603-1717322400-1717329600@www.associazionegoon.org
SUMMARY:Run for Parkinson's
DESCRIPTION:Siete invitati a camminare tutti insieme domenica 2 giugno per le ore 10:00. \nRitrovo presso il Parco al Po Maffo Vialli (di fronte alle Colonie Padane) e il percorso si svolgerà lungo il Po. \nLa camminata ludico motoria è organizzata da La Tartaruga e CSI\, con il patrocino del Comune. \nVi aspettiamo. Fare rete è importante!
URL:https://www.associazionegoon.org/event/run-for-parkinsons-3/
END:VEVENT
BEGIN:VEVENT
DTSTART;TZID=Europe/Rome:20240512T090000
DTEND;TZID=Europe/Rome:20240512T110000
DTSTAMP:20260422T032150
CREATED:20240508T094828Z
LAST-MODIFIED:20240508T094828Z
UID:2575-1715504400-1715511600@www.associazionegoon.org
SUMMARY:Quattro passi per Futura
DESCRIPTION:Si propone per domenica 12 maggio 2024 la partecipazione alla camminata di 6 km organizzata per raccogliere fondi per l’Associazione Futura. \nIl percorso partirà dalla sede dell’associazione in via San Rocco 82 a Cremona e si snoderà su percorso ciclo-pedonale fino al Bosco ex Parmigiano. \nVi aspettiamo numerosi…..come diciamo sempre “fare del bene fa bene” e fare rete tra associazioni è importante.
URL:https://www.associazionegoon.org/event/quattro-passi-per-futura/
END:VEVENT
BEGIN:VEVENT
DTSTART;TZID=Europe/Rome:20240501T083000
DTEND;TZID=Europe/Rome:20240501T103000
DTSTAMP:20260422T032150
CREATED:20240415T110844Z
LAST-MODIFIED:20240415T110844Z
UID:2572-1714552200-1714559400@www.associazionegoon.org
SUMMARY:RUN FOR LILT
DESCRIPTION:Camminata di 5 km tutti insieme – Bosco Ex Parmigiano piazza  T. Caprioli \nraccolta fondi per LITL
URL:https://www.associazionegoon.org/event/run-for-lilt/
END:VEVENT
BEGIN:VEVENT
DTSTART;TZID=Europe/Rome:20240413T160000
DTEND;TZID=Europe/Rome:20240413T170000
DTSTAMP:20260422T032150
CREATED:20240318T085538Z
LAST-MODIFIED:20240318T085538Z
UID:2562-1713024000-1713027600@www.associazionegoon.org
SUMMARY:Assemblea dei soci 2024
DESCRIPTION:orario e sede verranno trasmessi a breve
URL:https://www.associazionegoon.org/event/assemblea-dei-soci-2024/
END:VEVENT
BEGIN:VEVENT
DTSTART;TZID=Europe/Rome:20240323T180000
DTEND;TZID=Europe/Rome:20240323T210000
DTSTAMP:20260422T032150
CREATED:20240318T085341Z
LAST-MODIFIED:20240318T085341Z
UID:2560-1711216800-1711227600@www.associazionegoon.org
SUMMARY:Apericena Pasquale 2024
DESCRIPTION:Vi aspettiamo numerosi per passare una bella serata in allegria.
URL:https://www.associazionegoon.org/event/apericena-pasquale-2024/
END:VEVENT
BEGIN:VEVENT
DTSTART;TZID=Europe/Rome:20240317T090000
DTEND;TZID=Europe/Rome:20240317T110000
DTSTAMP:20260422T032150
CREATED:20240301T153700Z
LAST-MODIFIED:20240301T153700Z
UID:2474-1710666000-1710673200@www.associazionegoon.org
SUMMARY:Corsa Rosa 2024
DESCRIPTION:In occasione dell’annuale manifestazione “Corsa Rosa” organizzata da UISP CREMONA\, il 17 marzo si camminerà tutti insieme sul percorso di 6 km per le vie della città\, con partenza dalle Colonie Padane. \nil ricavato sarà devoluto a LILT (Lega Italiana per la Lotta contro i Tumori) e AIDA (ASSOCIAZIONE INCONTRO DONNE ANTIVIOLENZA). \nVi aspettiamo numerosi!!!!!!!
URL:https://www.associazionegoon.org/event/corsa-rosa-2024/
END:VEVENT
BEGIN:VEVENT
DTSTART;TZID=Europe/Rome:20240223T203000
DTEND;TZID=Europe/Rome:20240223T223000
DTSTAMP:20260422T032150
CREATED:20240119T091322Z
LAST-MODIFIED:20240119T091322Z
UID:2445-1708720200-1708727400@www.associazionegoon.org
SUMMARY:GUAI A CHI RUBA
DESCRIPTION:Spettacolo in fascia serale al Teatro Ponchielli dei I LEGNANESI \nvenerdì 23 febbraio ore 20:30
URL:https://www.associazionegoon.org/event/guai-a-chi-ruba-2/
END:VEVENT
BEGIN:VEVENT
DTSTART;TZID=Europe/Rome:20240222T153000
DTEND;TZID=Europe/Rome:20240222T173000
DTSTAMP:20260422T032150
CREATED:20240119T091211Z
LAST-MODIFIED:20240119T091211Z
UID:2443-1708615800-1708623000@www.associazionegoon.org
SUMMARY:GUAI A CHI RUBA
DESCRIPTION:Spettacolo al Teatro Ponchielli dei I LEGNANESI \ngiovedì 22 febbraio ore 15:30
URL:https://www.associazionegoon.org/event/guai-a-chi-ruba/
END:VEVENT
BEGIN:VEVENT
DTSTART;TZID=Europe/Rome:20240217T160000
DTEND;TZID=Europe/Rome:20240217T180000
DTSTAMP:20260422T032150
CREATED:20240206T080432Z
LAST-MODIFIED:20240206T080504Z
UID:2453-1708185600-1708192800@www.associazionegoon.org
SUMMARY:Coloriamo insieme
DESCRIPTION:Sabato 17/02/24 ore 16:00 viene organizzato un pomeriggio di ritrovo presso il CDD di via  dei Platani\, 22\, dove potremo mettere alla prova le nostre abilità artistiche. \n \nVi aspettiamo numerosi per colorare insieme il grigio inverno
URL:https://www.associazionegoon.org/event/coloriamo-insieme/
END:VEVENT
BEGIN:VEVENT
DTSTART;TZID=Europe/Rome:20240127T180000
DTEND;TZID=Europe/Rome:20240127T223000
DTSTAMP:20260422T032150
CREATED:20240119T091807Z
LAST-MODIFIED:20240119T091807Z
UID:2447-1706378400-1706394600@www.associazionegoon.org
SUMMARY:Ritroviamoci
DESCRIPTION:Si organizza un ritrovo per una “pizzata” in compagnia presso il CCD\, in via Platani 22\, Cremona. \nVi aspettiamo sabato 27 gennaio dalle 18:00 in poi. \n  \n 
URL:https://www.associazionegoon.org/event/ritroviamoci/
END:VEVENT
BEGIN:VEVENT
DTSTART;TZID=Europe/Rome:20240106T160000
DTEND;TZID=Europe/Rome:20240106T180000
DTSTAMP:20260422T032150
CREATED:20231213T084541Z
LAST-MODIFIED:20231213T084541Z
UID:2333-1704556800-1704564000@www.associazionegoon.org
SUMMARY:La leggenda di Belle e la bestia - musical
DESCRIPTION:per la rassegna del Teatro Ponchielli ” Il Ponchielli per le feste” avremo modo di vedere il musical della Compagnia dell’Ora. \n6 gennaio 2024 ore 16:00
URL:https://www.associazionegoon.org/event/la-leggenda-di-belle-e-la-bestia-musical/
END:VEVENT
BEGIN:VEVENT
DTSTART;TZID=Europe/Rome:20231223T180000
DTEND;TZID=Europe/Rome:20231223T230000
DTSTAMP:20260422T032150
CREATED:20231213T083006Z
LAST-MODIFIED:20231213T083006Z
UID:2329-1703354400-1703372400@www.associazionegoon.org
SUMMARY:Apericena di Natale
DESCRIPTION:siete tutti invitati sabato 23 dicembre dalle 18 in poi presso la sede del CDD in via dei Platani 22. \nSarà l’occasione per scambiarci gli auguri\, cantando e passando qualche ora in allegria. \nVi aspettiamo!!!!!!!!!
URL:https://www.associazionegoon.org/event/apericena-di-natale/
END:VEVENT
BEGIN:VEVENT
DTSTART;TZID=Europe/Rome:20231219T203000
DTEND;TZID=Europe/Rome:20231219T230000
DTSTAMP:20260422T032150
CREATED:20231213T082623Z
LAST-MODIFIED:20231213T082623Z
UID:2327-1703017800-1703026800@www.associazionegoon.org
SUMMARY:Maria Stuarda di Friedrich Schiller
DESCRIPTION:Teatro Ponchielli Cremona \ndue grandi attrici del teatro italiano\, Laura Marinoni e Elisabetta Pozzi\, interpretano la cattolica Maria Stuarda e la protestante Elisabetta I\, raccontando gli intrighi\, il potere e la politica che hanno portato allo scontro le due regine\, per determinare le sorti dell’Inghilterra e dell’Europa. \nRegista Davide Livermore \n 
URL:https://www.associazionegoon.org/event/maria-stuarda-di-friedrich-schiller/
END:VEVENT
BEGIN:VEVENT
DTSTART;TZID=Europe/Rome:20231217T140000
DTEND;TZID=Europe/Rome:20231217T190000
DTSTAMP:20260422T032150
CREATED:20231115T173419Z
LAST-MODIFIED:20231213T084833Z
UID:2297-1702821600-1702839600@www.associazionegoon.org
SUMMARY:Mercatini natalizi a Bonemerse
DESCRIPTION:Anche quest’anno la nostra associazione è stata invitata all’evento organizzato dal Comune di Bonemerse. Saremo presenti nel pomeriggio con il nostro stand e l’esposizione di oggetti natalizi realizzati a mano dalle nostre volontarie. \n \nVi aspettiamo.
URL:https://www.associazionegoon.org/event/mercatini-natalizi-a-bonemerse/
END:VEVENT
BEGIN:VEVENT
DTSTART;TZID=Europe/Rome:20231216T170000
DTEND;TZID=Europe/Rome:20231216T183000
DTSTAMP:20260422T032150
CREATED:20231213T083834Z
LAST-MODIFIED:20231213T083834Z
UID:2331-1702746000-1702751400@www.associazionegoon.org
SUMMARY:Paolo VI a Verolavecchia
DESCRIPTION:Mostra con visita guidata presso Villa Alghisi Montini a Verolavecchia (BS) il giorno 16 dicembre alle ore 17:00 \n \nLa mostra “La vita del Mondo” organizzata dal Comune vuole sensibilizzare tutti a riconoscere il valore di verità che coniuga etica\, morale\, pedagogia e didattica dell’arte.
URL:https://www.associazionegoon.org/event/paolo-vi-a-verolavecchia/
END:VEVENT
BEGIN:VEVENT
DTSTART;TZID=Europe/Rome:20231208T100000
DTEND;TZID=Europe/Rome:20231208T190000
DTSTAMP:20260422T032150
CREATED:20231115T173134Z
LAST-MODIFIED:20231115T173134Z
UID:2295-1702029600-1702062000@www.associazionegoon.org
SUMMARY:Strade del gusto e del cuore
DESCRIPTION:In occasione del tradizionale evento “Le strade del gusto e del cuore”\, GO ON sarà presente in Piazza Stradivari con lo stand dell’associazione e l’esposizione di oggetti natalizi e non\, realizzati dalle abili mani delle nostre volontarie. \nVi aspettiamo numerosi…..passate per un saluto e sarà l’occasione per farci direttamente gli auguri di Buone Feste.
URL:https://www.associazionegoon.org/event/strade-del-gusto-e-del-cuore/
END:VEVENT
BEGIN:VEVENT
DTSTART;TZID=Europe/Rome:20231202T160000
DTEND;TZID=Europe/Rome:20231202T180000
DTSTAMP:20260422T032150
CREATED:20231115T172716Z
LAST-MODIFIED:20231115T172809Z
UID:2292-1701532800-1701540000@www.associazionegoon.org
SUMMARY:Assemblea soci
DESCRIPTION:Viene convocata l’assemblea degli associati per rendicontazione attività svolte nel 2023 e programmazione attività future.. \nL’incontro si terrà alle ore 16:00 presso i locali del Centro Diurno per Disabili sito in via Platani\, 22 a Cremona.
URL:https://www.associazionegoon.org/event/assemblea-soci/
END:VEVENT
BEGIN:VEVENT
DTSTART;TZID=Europe/Rome:20231124T210000
DTEND;TZID=Europe/Rome:20231124T223000
DTSTAMP:20260422T032150
CREATED:20231117T101113Z
LAST-MODIFIED:20231117T101113Z
UID:2303-1700859600-1700865000@www.associazionegoon.org
SUMMARY:Music Dance - Teatro Monteverdi
DESCRIPTION:Siamo invitati a partecipare con qualche pezzo tratto dal nostro spettacolo all’evento organizzato da RDB Blue Company\, presso il Teatro Monteverdi in via Dante 149 a Cremona. \n \nL’ingresso sarà ad offerta libera e verrà devoluto alla Associazione Go On. \nCome indicato sulla locandina si consiglia la prenotazione al n. 3355845354. \nVi aspettiamo!!!!!!!!!!!!!!!!!!!!!!
URL:https://www.associazionegoon.org/event/music-dance-teatro-monteverdi/
END:VEVENT
BEGIN:VEVENT
DTSTART;TZID=Europe/Rome:20231119T110000
DTEND;TZID=Europe/Rome:20231119T123000
DTSTAMP:20260422T032150
CREATED:20231115T172106Z
LAST-MODIFIED:20231115T172106Z
UID:2289-1700391600-1700397000@www.associazionegoon.org
SUMMARY:Premio eccellenza e premio volontariato 2023
DESCRIPTION:Cerimonia di conferimento del PREMIO VOLONTARIATO promossa dal comune di Cremona per l’anno 2023. GO ON si è distinta quale associazione specializzata nel ricercare nuovi stimoli e obiettivi di gruppo per persone colpite da patologie acquisite. \nLa premiazione verrà effettuata in Sala Quadri presso il Palazzo del Comune (accesso da Spazio Comune in piazza Stradivari) alle ore 11:00. \n 
URL:https://www.associazionegoon.org/event/premio-eccellenza-e-premio-volontariato-2023/
END:VEVENT
BEGIN:VEVENT
DTSTART;TZID=Europe/Rome:20231112T093000
DTEND;TZID=Europe/Rome:20231112T113000
DTSTAMP:20260422T032150
CREATED:20231023T092234Z
LAST-MODIFIED:20231023T092234Z
UID:2274-1699781400-1699788600@www.associazionegoon.org
SUMMARY:14° Marian Ten
DESCRIPTION:12 novembre 2023 Città di Crema \nParteciperemo alla 10km non competitiva\, camminando tutti insieme in allegria!!!!!
URL:https://www.associazionegoon.org/event/14-marian-ten/
END:VEVENT
BEGIN:VEVENT
DTSTART;TZID=Europe/Rome:20231021T103000
DTEND;TZID=Europe/Rome:20231021T113000
DTSTAMP:20260422T032150
CREATED:20231012T063757Z
LAST-MODIFIED:20231012T063757Z
UID:2250-1697884200-1697887800@www.associazionegoon.org
SUMMARY:Camminata solidale AUSER
DESCRIPTION:Evento collaterale alla Festa del Volontariato 2023. \nVi aspettiamo per fare insieme questa camminata\, in allegria….perchè lo sappiamo #farerete chiama….GO ON risponde PRESENTE!
URL:https://www.associazionegoon.org/event/camminata-solidale-auser/
END:VEVENT
BEGIN:VEVENT
DTSTART;TZID=Europe/Rome:20231015T090000
DTEND;TZID=Europe/Rome:20231015T110000
DTSTAMP:20260422T032150
CREATED:20231012T063354Z
LAST-MODIFIED:20231012T063354Z
UID:2248-1697360400-1697367600@www.associazionegoon.org
SUMMARY:HMC Cremona 2023
DESCRIPTION:Domenica 15 ottobre…..tutti insieme per partecipare camminando alla 10 km non competitiva\, spingendo i nostri ragazzi. Musica e allegria garantiti.
URL:https://www.associazionegoon.org/event/hmc-cremona-2023/
END:VEVENT
BEGIN:VEVENT
DTSTART;TZID=Europe/Rome:20231001T090000
DTEND;TZID=Europe/Rome:20231001T190000
DTSTAMP:20260422T032150
CREATED:20230822T073430Z
LAST-MODIFIED:20230822T073430Z
UID:2168-1696150800-1696186800@www.associazionegoon.org
SUMMARY:Festa del volontariato 2023
DESCRIPTION:Piazza Stradivari – Cremona
URL:https://www.associazionegoon.org/event/festa-del-volontariato-2023/
END:VEVENT
BEGIN:VEVENT
DTSTART;TZID=Europe/Rome:20230923T090000
DTEND;TZID=Europe/Rome:20230923T220000
DTSTAMP:20260422T032150
CREATED:20230421T071315Z
LAST-MODIFIED:20230904T123706Z
UID:2091-1695459600-1695506400@www.associazionegoon.org
SUMMARY:Happy birthday GO ON 10 anni #insiemesipuò
DESCRIPTION:SIETE TUTTI INVITATI!!!!!!!!!!!!!!!!!!!!!! Portate chi volete e diffondete la notizia. Ingresso e attività gratuiti. \nVenite a festeggiare con noi: musica\, giochi\, intrattenimenti\, esibizioni e tanto altro ancora…..avrete solo l’imbarazzo della scelta! \nPer la “Caccia al tesoro” e la “visita guidata del CRART”\, attività gratuite\, sono consigliate le prenotazioni. Gli associati potranno effettuare la prenotazione come da indicazione data nel messaggio fornito sulla chat dell’associazione. Gli esterni sono pregati di scrivere all’indirizzo email goon.cremona@libero.it \n 
URL:https://www.associazionegoon.org/event/save-the-date/
END:VEVENT
BEGIN:VEVENT
DTSTART;TZID=Europe/Rome:20230917T083000
DTEND;TZID=Europe/Rome:20230917T113000
DTSTAMP:20260422T032150
CREATED:20230822T073825Z
LAST-MODIFIED:20230822T073825Z
UID:2171-1694939400-1694950200@www.associazionegoon.org
SUMMARY:Camminando un PO
DESCRIPTION:camminata per raccolta fondi per AIRC \nColonie Padane Cremona
URL:https://www.associazionegoon.org/event/camminando-un-po/
END:VEVENT
BEGIN:VEVENT
DTSTART;TZID=Europe/Rome:20230916T080000
DTEND;TZID=Europe/Rome:20230916T170000
DTSTAMP:20260422T032150
CREATED:20230309T095855Z
LAST-MODIFIED:20230309T095855Z
UID:2035-1694851200-1694883600@www.associazionegoon.org
SUMMARY:Gita annuale dell'associazione
DESCRIPTION:Gita con visita guidata al villaggio operaio di Crespi d’Adda\, pranzo a Trezzo sull’Adda e navigazione sull’Adda nel pomeriggio.
URL:https://www.associazionegoon.org/event/gita-annuale-dellassociazione/
END:VEVENT
BEGIN:VEVENT
DTSTART;TZID=Europe/Rome:20230903T090000
DTEND;TZID=Europe/Rome:20230903T190000
DTSTAMP:20260422T032150
CREATED:20230822T073330Z
LAST-MODIFIED:20230822T073330Z
UID:2166-1693731600-1693767600@www.associazionegoon.org
SUMMARY:Le strade del cuore
DESCRIPTION:Mercatino solidale in occasione della manifestazione delle Strade del gusto \nPiazza stradivari – Cremona
URL:https://www.associazionegoon.org/event/le-strade-del-cuore/
END:VEVENT
BEGIN:VEVENT
DTSTART;TZID=Europe/Rome:20230618T193000
DTEND;TZID=Europe/Rome:20230618T203000
DTSTAMP:20260422T032150
CREATED:20230619T072116Z
LAST-MODIFIED:20230619T072116Z
UID:2158-1687116600-1687120200@www.associazionegoon.org
SUMMARY:Chiesa di Sant'Agostino
DESCRIPTION:visita guidata organizzata da CRART Cremona in occasione del Festival Monteverdi
URL:https://www.associazionegoon.org/event/chiesa-di-santagostino/
END:VEVENT
BEGIN:VEVENT
DTSTART;TZID=Europe/Rome:20230617T100000
DTEND;TZID=Europe/Rome:20230617T110000
DTSTAMP:20260422T032150
CREATED:20230619T072003Z
LAST-MODIFIED:20230619T072003Z
UID:2156-1686996000-1686999600@www.associazionegoon.org
SUMMARY:Chiesa di Sant'Omobono
DESCRIPTION:Visita guidata organizzata da CRART Cremona alla Chiesa di Sant’Omobono in occasione del Festival Monteverdi \n 
URL:https://www.associazionegoon.org/event/chiesa-di-santomobono/
END:VEVENT
END:VCALENDAR