BEGIN:VCALENDAR
VERSION:2.0
PRODID:-//Associazione Go On Odv - Cremona - ECPv6.15.12.2//NONSGML v1.0//EN
CALSCALE:GREGORIAN
METHOD:PUBLISH
X-ORIGINAL-URL:https://www.associazionegoon.org
X-WR-CALDESC:Eventi per Associazione Go On Odv - Cremona
REFRESH-INTERVAL;VALUE=DURATION:PT1H
X-Robots-Tag:noindex
X-PUBLISHED-TTL:PT1H
BEGIN:VTIMEZONE
TZID:Europe/Rome
BEGIN:DAYLIGHT
TZOFFSETFROM:+0100
TZOFFSETTO:+0200
TZNAME:CEST
DTSTART:20230326T010000
END:DAYLIGHT
BEGIN:STANDARD
TZOFFSETFROM:+0200
TZOFFSETTO:+0100
TZNAME:CET
DTSTART:20231029T010000
END:STANDARD
BEGIN:DAYLIGHT
TZOFFSETFROM:+0100
TZOFFSETTO:+0200
TZNAME:CEST
DTSTART:20240331T010000
END:DAYLIGHT
BEGIN:STANDARD
TZOFFSETFROM:+0200
TZOFFSETTO:+0100
TZNAME:CET
DTSTART:20241027T010000
END:STANDARD
BEGIN:DAYLIGHT
TZOFFSETFROM:+0100
TZOFFSETTO:+0200
TZNAME:CEST
DTSTART:20250330T010000
END:DAYLIGHT
BEGIN:STANDARD
TZOFFSETFROM:+0200
TZOFFSETTO:+0100
TZNAME:CET
DTSTART:20251026T010000
END:STANDARD
END:VTIMEZONE
BEGIN:VEVENT
DTSTART;TZID=Europe/Rome:20241026T173000
DTEND;TZID=Europe/Rome:20241026T190000
DTSTAMP:20260422T025336
CREATED:20241015T123029Z
LAST-MODIFIED:20241015T123029Z
UID:2737-1729963800-1729969200@www.associazionegoon.org
SUMMARY:Assemblea ordinaria dei soci
DESCRIPTION:Si invitano i soci all’assemblea ordinaria che si terrà il giorno 26 ottobre 2024 alle ore 17:30\, presso il CDD di via dei Platani\, con il seguente ordine del giorno: \n\nscadenza consiglio direttivo\naggiornamento progetti in corso\naggiornamento relativo alla futura sede presso “Ottagono”\nvalutazione proposte festa di natale\nriflessioni e condivisione problematiche relative alla gestione\nvarie ed eventuali
URL:https://www.associazionegoon.org/event/assemblea-ordinaria-dei-soci/
END:VEVENT
END:VCALENDAR