BEGIN:VCALENDAR
VERSION:2.0
PRODID:-//Associazione Go On Odv - Cremona - ECPv6.15.12.2//NONSGML v1.0//EN
CALSCALE:GREGORIAN
METHOD:PUBLISH
X-ORIGINAL-URL:https://www.associazionegoon.org
X-WR-CALDESC:Eventi per Associazione Go On Odv - Cremona
REFRESH-INTERVAL;VALUE=DURATION:PT1H
X-Robots-Tag:noindex
X-PUBLISHED-TTL:PT1H
BEGIN:VTIMEZONE
TZID:Europe/Rome
BEGIN:DAYLIGHT
TZOFFSETFROM:+0100
TZOFFSETTO:+0200
TZNAME:CEST
DTSTART:20210328T010000
END:DAYLIGHT
BEGIN:STANDARD
TZOFFSETFROM:+0200
TZOFFSETTO:+0100
TZNAME:CET
DTSTART:20211031T010000
END:STANDARD
BEGIN:DAYLIGHT
TZOFFSETFROM:+0100
TZOFFSETTO:+0200
TZNAME:CEST
DTSTART:20220327T010000
END:DAYLIGHT
BEGIN:STANDARD
TZOFFSETFROM:+0200
TZOFFSETTO:+0100
TZNAME:CET
DTSTART:20221030T010000
END:STANDARD
BEGIN:DAYLIGHT
TZOFFSETFROM:+0100
TZOFFSETTO:+0200
TZNAME:CEST
DTSTART:20230326T010000
END:DAYLIGHT
BEGIN:STANDARD
TZOFFSETFROM:+0200
TZOFFSETTO:+0100
TZNAME:CET
DTSTART:20231029T010000
END:STANDARD
END:VTIMEZONE
BEGIN:VEVENT
DTSTART;TZID=Europe/Rome:20221218T100000
DTEND;TZID=Europe/Rome:20221218T190000
DTSTAMP:20260422T040856
CREATED:20221125T111147Z
LAST-MODIFIED:20221125T111147Z
UID:1950-1671357600-1671390000@www.associazionegoon.org
SUMMARY:Il villaggio di Natale
DESCRIPTION:Bonemerse (piazzetta dietro al comune) \nBancarelle gastronomiche\, lavorazioni artigianali\, oggettistica\, idee regalo
URL:https://www.associazionegoon.org/event/il-villaggio-di-natale/
END:VEVENT
END:VCALENDAR