BEGIN:VCALENDAR
VERSION:2.0
PRODID:-//Associazione Go On Odv - Cremona - ECPv6.15.12.2//NONSGML v1.0//EN
CALSCALE:GREGORIAN
METHOD:PUBLISH
X-WR-CALNAME:Associazione Go On Odv - Cremona
X-ORIGINAL-URL:https://www.associazionegoon.org
X-WR-CALDESC:Eventi per Associazione Go On Odv - Cremona
REFRESH-INTERVAL;VALUE=DURATION:PT1H
X-Robots-Tag:noindex
X-PUBLISHED-TTL:PT1H
BEGIN:VTIMEZONE
TZID:Europe/Rome
BEGIN:DAYLIGHT
TZOFFSETFROM:+0100
TZOFFSETTO:+0200
TZNAME:CEST
DTSTART:20210328T010000
END:DAYLIGHT
BEGIN:STANDARD
TZOFFSETFROM:+0200
TZOFFSETTO:+0100
TZNAME:CET
DTSTART:20211031T010000
END:STANDARD
BEGIN:DAYLIGHT
TZOFFSETFROM:+0100
TZOFFSETTO:+0200
TZNAME:CEST
DTSTART:20220327T010000
END:DAYLIGHT
BEGIN:STANDARD
TZOFFSETFROM:+0200
TZOFFSETTO:+0100
TZNAME:CET
DTSTART:20221030T010000
END:STANDARD
BEGIN:DAYLIGHT
TZOFFSETFROM:+0100
TZOFFSETTO:+0200
TZNAME:CEST
DTSTART:20230326T010000
END:DAYLIGHT
BEGIN:STANDARD
TZOFFSETFROM:+0200
TZOFFSETTO:+0100
TZNAME:CET
DTSTART:20231029T010000
END:STANDARD
END:VTIMEZONE
BEGIN:VEVENT
DTSTART;TZID=Europe/Rome:20220918T100000
DTEND;TZID=Europe/Rome:20220918T120000
DTSTAMP:20260422T091840
CREATED:20220830T092950Z
LAST-MODIFIED:20220830T092950Z
UID:1857-1663495200-1663502400@www.associazionegoon.org
SUMMARY:CORRICRICOLOR
DESCRIPTION:4° edizione della “corsa colorata” organizzata da Croce Rossa Italiana di Cremona – 18 settembre 2022 \nVi aspettiamo numerosi per “colorarci” tutti insieme\, percorrendo i 5 km camminando e divertendoci. Se volete partecipare con noi vi aspettiamo alle 9:30 in piazza Duomo (di fianco al Battistero). \n \nper informazioni vedi il sito https://www.cricremona.it/attivita2/item/269-corri-cri-colors-2022.html
URL:https://www.associazionegoon.org/event/corricricolor/
END:VEVENT
END:VCALENDAR